BEGIN:VCALENDAR
VERSION:2.0
PRODID:-//Michi&#039;s Tastenkarussell - ECPv6.15.20//NONSGML v1.0//EN
CALSCALE:GREGORIAN
METHOD:PUBLISH
X-ORIGINAL-URL:https://tastenkarussell.de
X-WR-CALDESC:Veranstaltungen für Michi&#039;s Tastenkarussell
REFRESH-INTERVAL;VALUE=DURATION:PT1H
X-Robots-Tag:noindex
X-PUBLISHED-TTL:PT1H
BEGIN:VTIMEZONE
TZID:Europe/Berlin
BEGIN:DAYLIGHT
TZOFFSETFROM:+0100
TZOFFSETTO:+0200
TZNAME:CEST
DTSTART:20240331T010000
END:DAYLIGHT
BEGIN:STANDARD
TZOFFSETFROM:+0200
TZOFFSETTO:+0100
TZNAME:CET
DTSTART:20241027T010000
END:STANDARD
BEGIN:DAYLIGHT
TZOFFSETFROM:+0100
TZOFFSETTO:+0200
TZNAME:CEST
DTSTART:20250330T010000
END:DAYLIGHT
BEGIN:STANDARD
TZOFFSETFROM:+0200
TZOFFSETTO:+0100
TZNAME:CET
DTSTART:20251026T010000
END:STANDARD
BEGIN:DAYLIGHT
TZOFFSETFROM:+0100
TZOFFSETTO:+0200
TZNAME:CEST
DTSTART:20260329T010000
END:DAYLIGHT
BEGIN:STANDARD
TZOFFSETFROM:+0200
TZOFFSETTO:+0100
TZNAME:CET
DTSTART:20261025T010000
END:STANDARD
END:VTIMEZONE
BEGIN:VEVENT
DTSTART;TZID=Europe/Berlin:20251102T150000
DTEND;TZID=Europe/Berlin:20251102T160000
DTSTAMP:20260421T153449
CREATED:20251017T092550Z
LAST-MODIFIED:20251017T093318Z
UID:584-1762095600-1762099200@tastenkarussell.de
SUMMARY:Auftritt Tastentandem
DESCRIPTION:Am 2. November hat das Tastentandem den Auftaktauftritt im Dorfgemeinschaftshaus in Berkach.  \nWir unterhalten die Senioren während ihres sonntäglichen Kaffeetrinkens ein Wenig und werden die Senioren ungefähr eine halbe Stunde unterhalten. Aktuell proben wir zweimal pro Woche und freuen uns schon sehr auf unseren ersten Auftritt. Das Programm reicht von Schlager über Pop. Es geht nicht um die Musikrichtung\, Hauptsache es macht gute Laune. \nEin kleiner Teaser: Nach unserem Auftaktstück könnt ihr euch z.B. auf den kleinen grünen Kaktus oder My Way (Frank Sinatra) freuen. \nWir freuen uns sehr auf euch! Kommt doch gerne vorbei 
URL:https://tastenkarussell.de/event/auftritt-tastentandem/
LOCATION:Dorfgemeinschaftshaus Berkach\, Dornheimer Straße 10\, Berkach\, Hessen\, 64521
CATEGORIES:Auftritt
END:VEVENT
BEGIN:VEVENT
DTSTART;TZID=Europe/Berlin:20250714T000000
DTEND;TZID=Europe/Berlin:20250820T235959
DTSTAMP:20260421T153449
CREATED:20250709T150128Z
LAST-MODIFIED:20250709T150128Z
UID:420-1752451200-1755734399@tastenkarussell.de
SUMMARY:Sommerferien
DESCRIPTION:Vom 14. Juli bis zum 20. August befindet sich Michi´s Tastenkarussell in den Sommerferien. \nIch wünsche allen Akkordeonisten und Akkordeonistinnen eine schöne Sommerzeit und freue mich schon jetzt auf euch! \nEure Michi
URL:https://tastenkarussell.de/event/sommerferien/
LOCATION:Hessen
CATEGORIES:Ferien
END:VEVENT
BEGIN:VEVENT
DTSTART;TZID=Europe/Berlin:20250626T180000
DTEND;TZID=Europe/Berlin:20250626T193000
DTSTAMP:20260421T153449
CREATED:20250604T221431Z
LAST-MODIFIED:20250604T221431Z
UID:216-1750960800-1750966200@tastenkarussell.de
SUMMARY:Vorspiel-Abend
DESCRIPTION:Am 26. Juni 2025 veranstalten wir einen Vorspielabend im städtischen Museum in Groß-Gerau. Den Abend werden die Tastenhüpfer einleiten\, worauf hin unsere Musizierenden die Möglichkeit bekommen ihre solistischen Fähigkeiten ihren Zuhörern zu präsentieren. Von Anfänger bis erfahrenden Musizierenden sind unterschiedliche Präsentationen dabei. \nKommt vorbei und lasst uns einen gemeinsamen\, musikalischen Abend verbringen!
URL:https://tastenkarussell.de/event/vorspiel-abend/
LOCATION:Museum Groß-Gerau\, Am Marktplatz 3\, Groß-Gerau\, 64521
END:VEVENT
BEGIN:VEVENT
DTSTART;TZID=Europe/Berlin:20250620T000000
DTEND;TZID=Europe/Berlin:20250622T235959
DTSTAMP:20260421T153449
CREATED:20250619T001315Z
LAST-MODIFIED:20250619T001315Z
UID:354-1750377600-1750636799@tastenkarussell.de
SUMMARY:Probewochenende TastenTandem
DESCRIPTION:Vom 20. bis zum 22. Juni trifft sich das Tastentandem und wird sein Programm erweitern. Es werden neue Stücke aus allen Genres dazukommen. Die beiden proben mit dem Ziel bald bei einem Seniorennachmittag im Haus Reiss in Groß-Gerau den Senioren und Seniorinnen eine große Freude bereiten zu können und deren Nachmittag mit Musik zu bereichern. Michaela und Franziska Freuen sich schon sehr auf das Wochenende!
URL:https://tastenkarussell.de/event/probewochenende-tastentandem/
LOCATION:Haus Reis\, Frankfurter Straße 46\, Groß-Gerau\, 64521
END:VEVENT
END:VCALENDAR